BEGIN:VCALENDAR
PRODID:-//Microsoft Corporation//Outlook 16.0 MIMEDIR//EN
VERSION:2.0
METHOD:REQUEST
X-MS-OLK-FORCEINSPECTOROPEN:TRUE
BEGIN:VTIMEZONE
TZID:Central Standard Time
BEGIN:STANDARD
DTSTART:16011104T020000
RRULE:FREQ=YEARLY;BYDAY=1SU;BYMONTH=11
TZOFFSETFROM:-0500
TZOFFSETTO:-0600
END:STANDARD
BEGIN:DAYLIGHT
DTSTART:16010311T020000
RRULE:FREQ=YEARLY;BYDAY=2SU;BYMONTH=3
TZOFFSETFROM:-0600
TZOFFSETTO:-0500
END:DAYLIGHT
END:VTIMEZONE
BEGIN:VEVENT
ATTENDEE;CN="Shelly Cassidy";RSVP=TRUE:mailto:scassidy@ruralmed.net
ATTENDEE;CN="Jackie Ziemke";RSVP=TRUE:mailto:jziemke@ruralmed.net
CATEGORIES:CBO
CLASS:PUBLIC
CREATED:20211123T142404Z
DESCRIPTION:Hayley Prosser is inviting you to a scheduled Zoom meeting.\n\n
	 \n\nJoin Zoom Meeting\n\nhttps://us06web.zoom.us/j/83214622720?pwd=MWZvY1
	dDeE5hV2tZT2xvOWdVcU83Zz09 <https://us06web.zoom.us/j/83214622720?pwd=MWZv
	Y1dDeE5hV2tZT2xvOWdVcU83Zz09> \n\n \n\nMeeting ID: 832 1462 2720\n\nPassco
	de: 532160\n\nOne tap mobile\n\n+17207072699\,\,83214622720#\,\,\,\,*53216
	0# US (Denver)\n\n+12532158782\,\,83214622720#\,\,\,\,*532160# US (Tacoma)
	\n\n \n\nDial by your location\n\n        +1 720 707 2699 US (Denver)\n\n 
	       +1 253 215 8782 US (Tacoma)\n\n        +1 346 248 7799 US (Houston)
	\n\n        +1 646 558 8656 US (New York)\n\n        +1 301 715 8592 US (W
	ashington DC)\n\n        +1 312 626 6799 US (Chicago)\n\nMeeting ID: 832 1
	462 2720\n\nPasscode: 532160\n\nFind your local number: https://us06web.zo
	om.us/u/kbiKtB9K2b <https://us06web.zoom.us/u/kbiKtB9K2b> \n\n \n\n \n\n
DTEND;TZID="Central Standard Time":20211209T113000
DTSTAMP:20211123T135458Z
DTSTART;TZID="Central Standard Time":20211209T100000
LAST-MODIFIED:20211123T142404Z
LOCATION:https://us06web.zoom.us/j/83214622720?pwd=MWZvY1dDeE5hV2tZT2xvOWdV
	cU83Zz09
ORGANIZER;CN="Hayley Prosser":mailto:hprosser@ruralmed.net
PRIORITY:5
SEQUENCE:0
SUMMARY:Webinar #2-NSA Dispute Processes & Reimbursment Methodology 
TRANSP:OPAQUE
UID:040000008200E00074C5B7101A82E00800000000407150693FE0D701000000000000000
	0100000009869E7AF1C6607408E71EEFCF210B839
X-ALT-DESC;FMTTYPE=text/html:<html xmlns:v="urn:schemas-microsoft-com:vml" 
	xmlns:o="urn:schemas-microsoft-com:office:office" xmlns:w="urn:schemas-mic
	rosoft-com:office:word" xmlns:m="http://schemas.microsoft.com/office/2004/
	12/omml" xmlns="http://www.w3.org/TR/REC-html40"><head>\n<meta name="Gener
	ator" content="Microsoft Word 15 (filtered medium)"><style><!--\n/* Font D
	efinitions */\n@font-face\n	{font-family:"Cambria Math"\;\n	panose-1:2 4 5
	 3 5 4 6 3 2 4\;}\n@font-face\n	{font-family:Calibri\;\n	panose-1:2 15 5 2
	 2 2 4 3 2 4\;}\n/* Style Definitions */\np.MsoNormal\, li.MsoNormal\, div
	.MsoNormal\n	{margin:0in\;\n	font-size:11.0pt\;\n	font-family:"Calibri"\,s
	ans-serif\;}\na:link\, span.MsoHyperlink\n	{mso-style-priority:99\;\n	colo
	r:#0563C1\;\n	text-decoration:underline\;}\nspan.EmailStyle18\n	{mso-style
	-type:personal-compose\;\n	font-family:"Calibri"\,sans-serif\;\n	color:win
	dowtext\;}\n.MsoChpDefault\n	{mso-style-type:export-only\;\n	font-size:10.
	0pt\;}\n@page WordSection1\n	{size:8.5in 11.0in\;\n	margin:1.0in 1.0in 1.0
	in 1.0in\;}\ndiv.WordSection1\n	{page:WordSection1\;}\n--></style><!--[if 
	gte mso 9]><xml>\n<o:shapedefaults v:ext="edit" spidmax="1026" />\n</xml><
	![endif]--><!--[if gte mso 9]><xml>\n<o:shapelayout v:ext="edit">\n<o:idma
	p v:ext="edit" data="1" />\n</o:shapelayout></xml><![endif]--></head><body
	 lang="EN-US" link="#0563C1" vlink="#954F72" style="word-wrap:break-word">
	<div class="WordSection1"><p class="MsoNormal">H<a name="WinZmBookmark_z9D
	B86">ayley Prosser is inviting you to a scheduled Zoom meeting.<o:p></o:p>
	</a></p><p class="MsoNormal"><span style="mso-bookmark:WinZmBookmark_z9DB8
	6"><o:p>&nbsp\;</o:p></span></p><p class="MsoNormal"><span style="mso-book
	mark:WinZmBookmark_z9DB86">Join Zoom Meeting<o:p></o:p></span></p><p class
	="MsoNormal"><span style="mso-bookmark:WinZmBookmark_z9DB86"></span><a hre
	f="https://us06web.zoom.us/j/83214622720?pwd=MWZvY1dDeE5hV2tZT2xvOWdVcU83Z
	z09"><span style="mso-bookmark:WinZmBookmark_z9DB86">https://us06web.zoom.
	us/j/83214622720?pwd=MWZvY1dDeE5hV2tZT2xvOWdVcU83Zz09</span><span style="m
	so-bookmark:WinZmBookmark_z9DB86"></span></a><span style="mso-bookmark:Win
	ZmBookmark_z9DB86"><o:p></o:p></span></p><p class="MsoNormal"><span style=
	"mso-bookmark:WinZmBookmark_z9DB86"><o:p>&nbsp\;</o:p></span></p><p class=
	"MsoNormal"><span style="mso-bookmark:WinZmBookmark_z9DB86">Meeting ID: 83
	2 1462 2720<o:p></o:p></span></p><p class="MsoNormal"><span style="mso-boo
	kmark:WinZmBookmark_z9DB86">Passcode: 532160<o:p></o:p></span></p><p class
	="MsoNormal"><span style="mso-bookmark:WinZmBookmark_z9DB86">One tap mobil
	e<o:p></o:p></span></p><p class="MsoNormal"><span style="mso-bookmark:WinZ
	mBookmark_z9DB86">+17207072699\,\,83214622720#\,\,\,\,*532160# US (Denver)
	<o:p></o:p></span></p><p class="MsoNormal"><span style="mso-bookmark:WinZm
	Bookmark_z9DB86">+12532158782\,\,83214622720#\,\,\,\,*532160# US (Tacoma)<
	o:p></o:p></span></p><p class="MsoNormal"><span style="mso-bookmark:WinZmB
	ookmark_z9DB86"><o:p>&nbsp\;</o:p></span></p><p class="MsoNormal"><span st
	yle="mso-bookmark:WinZmBookmark_z9DB86">Dial by your location<o:p></o:p></
	span></p><p class="MsoNormal"><span style="mso-bookmark:WinZmBookmark_z9DB
	86">&nbsp\;&nbsp\;&nbsp\;&nbsp\;&nbsp\;&nbsp\;&nbsp\; +1 720 707 2699 US (
	Denver)<o:p></o:p></span></p><p class="MsoNormal"><span style="mso-bookmar
	k:WinZmBookmark_z9DB86">&nbsp\;&nbsp\;&nbsp\;&nbsp\;&nbsp\;&nbsp\;&nbsp\; 
	+1 253 215 8782 US (Tacoma)<o:p></o:p></span></p><p class="MsoNormal"><spa
	n style="mso-bookmark:WinZmBookmark_z9DB86">&nbsp\;&nbsp\;&nbsp\;&nbsp\;&n
	bsp\;&nbsp\;&nbsp\; +1 346 248 7799 US (Houston)<o:p></o:p></span></p><p c
	lass="MsoNormal"><span style="mso-bookmark:WinZmBookmark_z9DB86">&nbsp\;&n
	bsp\;&nbsp\;&nbsp\;&nbsp\;&nbsp\;&nbsp\; +1 646 558 8656 US (New York)<o:p
	></o:p></span></p><p class="MsoNormal"><span style="mso-bookmark:WinZmBook
	mark_z9DB86">&nbsp\;&nbsp\;&nbsp\;&nbsp\;&nbsp\;&nbsp\;&nbsp\; +1 301 715 
	8592 US (Washington DC)<o:p></o:p></span></p><p class="MsoNormal"><span st
	yle="mso-bookmark:WinZmBookmark_z9DB86">&nbsp\;&nbsp\;&nbsp\;&nbsp\;&nbsp\
	;&nbsp\;&nbsp\; +1 312 626 6799 US (Chicago)<o:p></o:p></span></p><p class
	="MsoNormal"><span style="mso-bookmark:WinZmBookmark_z9DB86">Meeting ID: 8
	32 1462 2720<o:p></o:p></span></p><p class="MsoNormal"><span style="mso-bo
	okmark:WinZmBookmark_z9DB86">Passcode: 532160<o:p></o:p></span></p><p clas
	s="MsoNormal"><span style="mso-bookmark:WinZmBookmark_z9DB86">Find your lo
	cal number: </span><a href="https://us06web.zoom.us/u/kbiKtB9K2b"><span st
	yle="mso-bookmark:WinZmBookmark_z9DB86">https://us06web.zoom.us/u/kbiKtB9K
	2b</span><span style="mso-bookmark:WinZmBookmark_z9DB86"></span></a><span 
	style="mso-bookmark:WinZmBookmark_z9DB86"></span><a name="WinZmBookmarkEnd
	"></a><o:p></o:p></p><p class="MsoNormal"><o:p>&nbsp\;</o:p></p><p class="
	MsoNormal"><o:p>&nbsp\;</o:p></p></div></body></html>
X-MICROSOFT-CDO-BUSYSTATUS:BUSY
X-MICROSOFT-CDO-IMPORTANCE:1
X-MICROSOFT-CDO-INTENDEDSTATUS:BUSY
X-MICROSOFT-DISALLOW-COUNTER:FALSE
BEGIN:VALARM
TRIGGER:-PT15M
ACTION:DISPLAY
DESCRIPTION:Reminder
END:VALARM
END:VEVENT
END:VCALENDAR
